BEGIN:VCALENDAR
VERSION:2.0
PRODID:-//horizon-training.presencehost.net//NONSGML kigkonsult.se iCalcrea
 tor 2.30.10//
CALSCALE:GREGORIAN
METHOD:PUBLISH
UID:aa0f5a43-1b43-44f2-a6c6-92ee83e03e2a
X-WR-CALDESC:Monthly Board Meeting
X-WR-RELCALID:7af5943514fecce1a69480ca4ce0fd98
X-WR-TIMEZONE:America/Chicago
BEGIN:VTIMEZONE
TZID:America/Chicago
BEGIN:STANDARD
TZNAME:CST
DTSTART:20301103T020000
TZOFFSETFROM:-0500
TZOFFSETTO:-0600
RDATE:20311102T020000
RDATE:20321107T020000
END:STANDARD
BEGIN:DAYLIGHT
TZNAME:CDT
DTSTART:20310309T020000
TZOFFSETFROM:-0600
TZOFFSETTO:-0500
RDATE:20320314T020000
RDATE:20330313T020000
END:DAYLIGHT
END:VTIMEZONE
BEGIN:VEVENT
UID:2734a4bf-4ffc-4e29-b8e6-4c480dbcc83e
DTSTAMP:20260425T232305Z
DESCRIPTION:Monthly Board Meeting
DTSTART;TZID=America/Chicago:20310912T183000
DTEND;TZID=America/Chicago:20310912T200000
LOCATION:Atrium Meeting Room
SUMMARY:Board Meeting
END:VEVENT
END:VCALENDAR
