BEGIN:VCALENDAR
VERSION:2.0
PRODID:-//horizon-training.presencehost.net//NONSGML kigkonsult.se iCalcrea
 tor 2.30.10//
CALSCALE:GREGORIAN
METHOD:PUBLISH
UID:3c9d3583-357f-4772-84d3-a5dc23122a5c
X-WR-CALDESC:Monthly Board Meeting
X-WR-RELCALID:30cfdb54725e11f49261bf66f00dbcc6
X-WR-TIMEZONE:America/Chicago
BEGIN:VTIMEZONE
TZID:America/Chicago
BEGIN:STANDARD
TZNAME:CST
DTSTART:20301103T020000
TZOFFSETFROM:-0500
TZOFFSETTO:-0600
RDATE:20311102T020000
RDATE:20321107T020000
END:STANDARD
BEGIN:DAYLIGHT
TZNAME:CDT
DTSTART:20310309T020000
TZOFFSETFROM:-0600
TZOFFSETTO:-0500
RDATE:20320314T020000
END:DAYLIGHT
END:VTIMEZONE
BEGIN:VEVENT
UID:11ff7a58-8b9a-4ea0-a972-5c28191fd323
DTSTAMP:20260425T180545Z
DESCRIPTION:Monthly Board Meeting
DTSTART;TZID=America/Chicago:20310613T183000
DTEND;TZID=America/Chicago:20310613T200000
LOCATION:Atrium Meeting Room
SUMMARY:Board Meeting
END:VEVENT
END:VCALENDAR
