BEGIN:VCALENDAR
VERSION:2.0
PRODID:-//horizon-training.presencehost.net//NONSGML kigkonsult.se iCalcrea
 tor 2.30.10//
CALSCALE:GREGORIAN
METHOD:PUBLISH
UID:9cf111b1-d7d6-421e-9b31-d356baab47e0
X-WR-CALDESC:Monthly Board Meeting
X-WR-RELCALID:fd45c2ddb5a402a8b0845e37f4bfde01
X-WR-TIMEZONE:America/Chicago
BEGIN:VTIMEZONE
TZID:America/Chicago
BEGIN:STANDARD
TZNAME:CST
DTSTART:20301103T020000
TZOFFSETFROM:-0500
TZOFFSETTO:-0600
RDATE:20311102T020000
RDATE:20321107T020000
END:STANDARD
BEGIN:DAYLIGHT
TZNAME:CDT
DTSTART:20310309T020000
TZOFFSETFROM:-0600
TZOFFSETTO:-0500
RDATE:20320314T020000
END:DAYLIGHT
END:VTIMEZONE
BEGIN:VEVENT
UID:172040fd-b080-4e02-9ef4-6bfae06dd397
DTSTAMP:20260425T160739Z
DESCRIPTION:Monthly Board Meeting
DTSTART;TZID=America/Chicago:20310509T183000
DTEND;TZID=America/Chicago:20310509T200000
LOCATION:Atrium Meeting Room
SUMMARY:Board Meeting
END:VEVENT
END:VCALENDAR
