BEGIN:VCALENDAR
VERSION:2.0
PRODID:-//horizon-training.presencehost.net//NONSGML kigkonsult.se iCalcrea
 tor 2.30.10//
CALSCALE:GREGORIAN
METHOD:PUBLISH
UID:4bc1d84a-83b7-4e27-8052-79b20310b3ed
X-WR-CALDESC:Monthly Board Meeting
X-WR-RELCALID:9e19335615d42b15372e00b6e5c8f17b
X-WR-TIMEZONE:America/Chicago
BEGIN:VTIMEZONE
TZID:America/Chicago
BEGIN:STANDARD
TZNAME:CST
DTSTART:20301103T020000
TZOFFSETFROM:-0500
TZOFFSETTO:-0600
RDATE:20311102T020000
END:STANDARD
BEGIN:DAYLIGHT
TZNAME:CDT
DTSTART:20310309T020000
TZOFFSETFROM:-0600
TZOFFSETTO:-0500
RDATE:20320314T020000
END:DAYLIGHT
END:VTIMEZONE
BEGIN:VEVENT
UID:2d5f8d7f-ebe4-4b70-9b58-38103a9a4199
DTSTAMP:20260425T142242Z
DESCRIPTION:Monthly Board Meeting
DTSTART;TZID=America/Chicago:20310411T183000
DTEND;TZID=America/Chicago:20310411T200000
LOCATION:Atrium Meeting Room
SUMMARY:Board Meeting
END:VEVENT
END:VCALENDAR
