BEGIN:VCALENDAR
VERSION:2.0
PRODID:-//horizon-training.presencehost.net//NONSGML kigkonsult.se iCalcrea
 tor 2.30.10//
CALSCALE:GREGORIAN
METHOD:PUBLISH
UID:228734e8-80fd-4696-bbf5-62267611f13b
X-WR-CALDESC:Monthly Board Meeting
X-WR-RELCALID:70c4851f8b8778f3d33530dc4e1f93c7
X-WR-TIMEZONE:America/Chicago
BEGIN:VTIMEZONE
TZID:America/Chicago
BEGIN:STANDARD
TZNAME:CST
DTSTART:20301103T020000
TZOFFSETFROM:-0500
TZOFFSETTO:-0600
RDATE:20311102T020000
END:STANDARD
BEGIN:DAYLIGHT
TZNAME:CDT
DTSTART:20310309T020000
TZOFFSETFROM:-0600
TZOFFSETTO:-0500
RDATE:20320314T020000
END:DAYLIGHT
END:VTIMEZONE
BEGIN:VEVENT
UID:3b3981b0-6548-4eed-85ed-3356b7f2411f
DTSTAMP:20260425T125830Z
DESCRIPTION:Monthly Board Meeting
DTSTART;TZID=America/Chicago:20310314T183000
DTEND;TZID=America/Chicago:20310314T200000
LOCATION:Atrium Meeting Room
SUMMARY:Board Meeting
END:VEVENT
END:VCALENDAR
