BEGIN:VCALENDAR
VERSION:2.0
PRODID:-//horizon-training.presencehost.net//NONSGML kigkonsult.se iCalcrea
 tor 2.30.10//
CALSCALE:GREGORIAN
METHOD:PUBLISH
UID:7442ca4d-217c-4cd6-aa27-9a9d1d3634ce
X-WR-CALDESC:Monthly Board Meeting
X-WR-RELCALID:564c828bacfc12fa5fa00bfd7db34e52
X-WR-TIMEZONE:America/Chicago
BEGIN:VTIMEZONE
TZID:America/Chicago
BEGIN:STANDARD
TZNAME:CST
DTSTART:20301103T020000
TZOFFSETFROM:-0500
TZOFFSETTO:-0600
RDATE:20311102T020000
END:STANDARD
BEGIN:DAYLIGHT
TZNAME:CDT
DTSTART:20300310T020000
TZOFFSETFROM:-0600
TZOFFSETTO:-0500
RDATE:20310309T020000
RDATE:20320314T020000
END:DAYLIGHT
END:VTIMEZONE
BEGIN:VEVENT
UID:340a22bd-5a03-44e9-b717-4cd7d32c46a3
DTSTAMP:20260425T111236Z
DESCRIPTION:Monthly Board Meeting
DTSTART;TZID=America/Chicago:20310214T183000
DTEND;TZID=America/Chicago:20310214T200000
LOCATION:Atrium Meeting Room
SUMMARY:Board Meeting
END:VEVENT
END:VCALENDAR
