BEGIN:VCALENDAR
VERSION:2.0
PRODID:-//horizon-training.presencehost.net//NONSGML kigkonsult.se iCalcrea
 tor 2.30.10//
CALSCALE:GREGORIAN
METHOD:PUBLISH
UID:3620ba7a-aef2-4f4e-ae7d-d6391fa8614e
X-WR-CALDESC:Monthly Board Meeting
X-WR-RELCALID:b54b494bfe9109cc1c77750d26e2d146
X-WR-TIMEZONE:America/Chicago
BEGIN:VTIMEZONE
TZID:America/Chicago
BEGIN:STANDARD
TZNAME:CST
DTSTART:20291104T020000
TZOFFSETFROM:-0500
TZOFFSETTO:-0600
RDATE:20301103T020000
RDATE:20311102T020000
END:STANDARD
BEGIN:DAYLIGHT
TZNAME:CDT
DTSTART:20300310T020000
TZOFFSETFROM:-0600
TZOFFSETTO:-0500
RDATE:20310309T020000
RDATE:20320314T020000
END:DAYLIGHT
END:VTIMEZONE
BEGIN:VEVENT
UID:b9235c0c-fd0b-4d05-8fd2-da3281994527
DTSTAMP:20260425T024452Z
DESCRIPTION:Monthly Board Meeting
DTSTART;TZID=America/Chicago:20300913T183000
DTEND;TZID=America/Chicago:20300913T200000
LOCATION:Atrium Meeting Room
SUMMARY:Board Meeting
END:VEVENT
END:VCALENDAR
