BEGIN:VCALENDAR
VERSION:2.0
PRODID:-//horizon-training.presencehost.net//NONSGML kigkonsult.se iCalcrea
 tor 2.30.10//
CALSCALE:GREGORIAN
METHOD:PUBLISH
UID:a91fc974-1bd0-416e-99e9-ffdf188a1e5b
X-WR-CALDESC:Monthly Board Meeting
X-WR-RELCALID:147d8a91964dd32603ba7968c0441735
X-WR-TIMEZONE:America/Chicago
BEGIN:VTIMEZONE
TZID:America/Chicago
BEGIN:STANDARD
TZNAME:CST
DTSTART:20291104T020000
TZOFFSETFROM:-0500
TZOFFSETTO:-0600
RDATE:20301103T020000
RDATE:20311102T020000
END:STANDARD
BEGIN:DAYLIGHT
TZNAME:CDT
DTSTART:20300310T020000
TZOFFSETFROM:-0600
TZOFFSETTO:-0500
RDATE:20310309T020000
END:DAYLIGHT
END:VTIMEZONE
BEGIN:VEVENT
UID:bf2d9796-43cf-423f-bd1a-610664bdd345
DTSTAMP:20260425T011327Z
DESCRIPTION:Monthly Board Meeting
DTSTART;TZID=America/Chicago:20300809T183000
DTEND;TZID=America/Chicago:20300809T200000
LOCATION:Atrium Meeting Room
SUMMARY:Board Meeting
END:VEVENT
END:VCALENDAR
