BEGIN:VCALENDAR
VERSION:2.0
PRODID:-//horizon-training.presencehost.net//NONSGML kigkonsult.se iCalcrea
 tor 2.30.10//
CALSCALE:GREGORIAN
METHOD:PUBLISH
UID:b5199c55-c194-4552-9e71-3beba05a6b52
X-WR-CALDESC:Monthly Board Meeting
X-WR-RELCALID:d0946f46d4c0e13e522b9e03a769ee35
X-WR-TIMEZONE:America/Chicago
BEGIN:VTIMEZONE
TZID:America/Chicago
BEGIN:STANDARD
TZNAME:CST
DTSTART:20291104T020000
TZOFFSETFROM:-0500
TZOFFSETTO:-0600
RDATE:20301103T020000
RDATE:20311102T020000
END:STANDARD
BEGIN:DAYLIGHT
TZNAME:CDT
DTSTART:20300310T020000
TZOFFSETFROM:-0600
TZOFFSETTO:-0500
RDATE:20310309T020000
END:DAYLIGHT
END:VTIMEZONE
BEGIN:VEVENT
UID:9b93daf5-5981-4c60-96f4-a0ec8a4c55f4
DTSTAMP:20260424T235835Z
DESCRIPTION:Monthly Board Meeting
DTSTART;TZID=America/Chicago:20300712T183000
DTEND;TZID=America/Chicago:20300712T200000
LOCATION:Atrium Meeting Room
SUMMARY:Board Meeting
END:VEVENT
END:VCALENDAR
