BEGIN:VCALENDAR
VERSION:2.0
PRODID:-//horizon-training.presencehost.net//NONSGML kigkonsult.se iCalcrea
 tor 2.30.10//
CALSCALE:GREGORIAN
METHOD:PUBLISH
UID:9b645822-69c8-4c9e-8a60-dc83e30f4cf8
X-WR-CALDESC:Monthly Board Meeting
X-WR-RELCALID:3f33fa114687ab12b80c9346d6c7dff8
X-WR-TIMEZONE:America/Chicago
BEGIN:VTIMEZONE
TZID:America/Chicago
BEGIN:STANDARD
TZNAME:CST
DTSTART:20291104T020000
TZOFFSETFROM:-0500
TZOFFSETTO:-0600
RDATE:20301103T020000
RDATE:20311102T020000
END:STANDARD
BEGIN:DAYLIGHT
TZNAME:CDT
DTSTART:20300310T020000
TZOFFSETFROM:-0600
TZOFFSETTO:-0500
RDATE:20310309T020000
END:DAYLIGHT
END:VTIMEZONE
BEGIN:VEVENT
UID:ef3e0b57-8237-4d38-ad8b-37b548b2829b
DTSTAMP:20260424T220502Z
DESCRIPTION:Monthly Board Meeting
DTSTART;TZID=America/Chicago:20300614T183000
DTEND;TZID=America/Chicago:20300614T200000
LOCATION:Atrium Meeting Room
SUMMARY:Board Meeting
END:VEVENT
END:VCALENDAR
