BEGIN:VCALENDAR
VERSION:2.0
PRODID:-//horizon-training.presencehost.net//NONSGML kigkonsult.se iCalcrea
 tor 2.30.10//
CALSCALE:GREGORIAN
METHOD:PUBLISH
UID:f5981f74-8457-48f8-afbd-9ea2c6979700
X-WR-CALDESC:Monthly Board Meeting
X-WR-RELCALID:0d1683857d5285cb817ae17072a7bf68
X-WR-TIMEZONE:America/Chicago
BEGIN:VTIMEZONE
TZID:America/Chicago
BEGIN:STANDARD
TZNAME:CST
DTSTART:20291104T020000
TZOFFSETFROM:-0500
TZOFFSETTO:-0600
RDATE:20301103T020000
RDATE:20311102T020000
END:STANDARD
BEGIN:DAYLIGHT
TZNAME:CDT
DTSTART:20300310T020000
TZOFFSETFROM:-0600
TZOFFSETTO:-0500
RDATE:20310309T020000
END:DAYLIGHT
END:VTIMEZONE
BEGIN:VEVENT
UID:a2d20049-190e-4636-986a-e9c2b0b9e3fe
DTSTAMP:20260424T203143Z
DESCRIPTION:Monthly Board Meeting
DTSTART;TZID=America/Chicago:20300510T183000
DTEND;TZID=America/Chicago:20300510T200000
LOCATION:Atrium Meeting Room
SUMMARY:Board Meeting
END:VEVENT
END:VCALENDAR
