BEGIN:VCALENDAR
VERSION:2.0
PRODID:-//horizon-training.presencehost.net//NONSGML kigkonsult.se iCalcrea
 tor 2.30.10//
CALSCALE:GREGORIAN
METHOD:PUBLISH
UID:d5baf98b-852e-4e12-8e80-30dcc3ad9d47
X-WR-CALDESC:Monthly Board Meeting
X-WR-RELCALID:12613c4ca61c2383fc656cbd429d1234
X-WR-TIMEZONE:America/Chicago
BEGIN:VTIMEZONE
TZID:America/Chicago
BEGIN:STANDARD
TZNAME:CST
DTSTART:20291104T020000
TZOFFSETFROM:-0500
TZOFFSETTO:-0600
RDATE:20301103T020000
END:STANDARD
BEGIN:DAYLIGHT
TZNAME:CDT
DTSTART:20300310T020000
TZOFFSETFROM:-0600
TZOFFSETTO:-0500
RDATE:20310309T020000
END:DAYLIGHT
END:VTIMEZONE
BEGIN:VEVENT
UID:9a2d35e1-437e-4c9c-866b-9ba28f553d2c
DTSTAMP:20260424T191039Z
DESCRIPTION:Monthly Board Meeting
DTSTART;TZID=America/Chicago:20300412T183000
DTEND;TZID=America/Chicago:20300412T200000
LOCATION:Atrium Meeting Room
SUMMARY:Board Meeting
END:VEVENT
END:VCALENDAR
