BEGIN:VCALENDAR
VERSION:2.0
PRODID:-//horizon-training.presencehost.net//NONSGML kigkonsult.se iCalcrea
 tor 2.30.10//
CALSCALE:GREGORIAN
METHOD:PUBLISH
UID:80b7359b-a815-424a-861c-b4b779b9e202
X-WR-CALDESC:Monthly Board Meeting
X-WR-RELCALID:ec9b8939752d7df27d9c29d6c3f80053
X-WR-TIMEZONE:America/Chicago
BEGIN:VTIMEZONE
TZID:America/Chicago
BEGIN:STANDARD
TZNAME:CST
DTSTART:20291104T020000
TZOFFSETFROM:-0500
TZOFFSETTO:-0600
RDATE:20301103T020000
END:STANDARD
BEGIN:DAYLIGHT
TZNAME:CDT
DTSTART:20290311T020000
TZOFFSETFROM:-0600
TZOFFSETTO:-0500
RDATE:20300310T020000
RDATE:20310309T020000
END:DAYLIGHT
END:VTIMEZONE
BEGIN:VEVENT
UID:99d8a798-442f-403e-b9a3-6e2916ae1650
DTSTAMP:20260424T173057Z
DESCRIPTION:Monthly Board Meeting
DTSTART;TZID=America/Chicago:20300308T183000
DTEND;TZID=America/Chicago:20300308T200000
LOCATION:Atrium Meeting Room
SUMMARY:Board Meeting
END:VEVENT
END:VCALENDAR
