BEGIN:VCALENDAR
VERSION:2.0
PRODID:-//horizon-training.presencehost.net//NONSGML kigkonsult.se iCalcrea
 tor 2.30.10//
CALSCALE:GREGORIAN
METHOD:PUBLISH
UID:19bd7399-bf12-471a-b31c-8a1cc9c80b7a
X-WR-CALDESC:Monthly Board Meeting
X-WR-RELCALID:01760e43a2d3918dd8373a0c381d5430
X-WR-TIMEZONE:America/Chicago
BEGIN:VTIMEZONE
TZID:America/Chicago
BEGIN:STANDARD
TZNAME:CST
DTSTART:20291104T020000
TZOFFSETFROM:-0500
TZOFFSETTO:-0600
RDATE:20301103T020000
END:STANDARD
BEGIN:DAYLIGHT
TZNAME:CDT
DTSTART:20290311T020000
TZOFFSETFROM:-0600
TZOFFSETTO:-0500
RDATE:20300310T020000
RDATE:20310309T020000
END:DAYLIGHT
END:VTIMEZONE
BEGIN:VEVENT
UID:ebb29703-eb60-403c-bed5-56e1f0564b32
DTSTAMP:20260424T141903Z
DESCRIPTION:Monthly Board Meeting
DTSTART;TZID=America/Chicago:20300111T183000
DTEND;TZID=America/Chicago:20300111T200000
LOCATION:Atrium Meeting Room
SUMMARY:Board Meeting
END:VEVENT
END:VCALENDAR
