BEGIN:VCALENDAR
VERSION:2.0
PRODID:-//horizon-training.presencehost.net//NONSGML kigkonsult.se iCalcrea
 tor 2.30.10//
CALSCALE:GREGORIAN
METHOD:PUBLISH
UID:6fa236fc-5ed0-425f-8eb0-58325fecccc3
X-WR-CALDESC:Monthly Board Meeting
X-WR-RELCALID:1ef8024909b87701a91d67e416de37a0
X-WR-TIMEZONE:America/Chicago
BEGIN:VTIMEZONE
TZID:America/Chicago
BEGIN:STANDARD
TZNAME:CST
DTSTART:20291104T020000
TZOFFSETFROM:-0500
TZOFFSETTO:-0600
RDATE:20301103T020000
END:STANDARD
BEGIN:DAYLIGHT
TZNAME:CDT
DTSTART:20290311T020000
TZOFFSETFROM:-0600
TZOFFSETTO:-0500
RDATE:20300310T020000
RDATE:20310309T020000
END:DAYLIGHT
END:VTIMEZONE
BEGIN:VEVENT
UID:29e12c3e-3964-4b9d-bda4-c5fd0e79736b
DTSTAMP:20260424T123947Z
DESCRIPTION:Monthly Board Meeting
DTSTART;TZID=America/Chicago:20291214T183000
DTEND;TZID=America/Chicago:20291214T200000
LOCATION:Atrium Meeting Room
SUMMARY:Board Meeting
END:VEVENT
END:VCALENDAR
