BEGIN:VCALENDAR
VERSION:2.0
PRODID:-//horizon-training.presencehost.net//NONSGML kigkonsult.se iCalcrea
 tor 2.30.10//
CALSCALE:GREGORIAN
METHOD:PUBLISH
UID:245946bc-9331-466e-9916-da2d838c15be
X-WR-CALDESC:Monthly Board Meeting
X-WR-RELCALID:9b0537d64d4f1cbe439e9f43840b1c46
X-WR-TIMEZONE:America/Chicago
BEGIN:VTIMEZONE
TZID:America/Chicago
BEGIN:STANDARD
TZNAME:CST
DTSTART:20291104T020000
TZOFFSETFROM:-0500
TZOFFSETTO:-0600
RDATE:20301103T020000
END:STANDARD
BEGIN:DAYLIGHT
TZNAME:CDT
DTSTART:20290311T020000
TZOFFSETFROM:-0600
TZOFFSETTO:-0500
RDATE:20300310T020000
RDATE:20310309T020000
END:DAYLIGHT
END:VTIMEZONE
BEGIN:VEVENT
UID:b2547b31-9c55-4a2b-9224-b3aeabdfa6b1
DTSTAMP:20260424T105513Z
DESCRIPTION:Monthly Board Meeting
DTSTART;TZID=America/Chicago:20291109T183000
DTEND;TZID=America/Chicago:20291109T200000
LOCATION:Atrium Meeting Room
SUMMARY:Board Meeting
END:VEVENT
END:VCALENDAR
