BEGIN:VCALENDAR
VERSION:2.0
PRODID:-//horizon-training.presencehost.net//NONSGML kigkonsult.se iCalcrea
 tor 2.30.10//
CALSCALE:GREGORIAN
METHOD:PUBLISH
UID:dcfd0c51-f72e-439b-a9c5-ae5fc886c623
X-WR-CALDESC:Monthly Board Meeting
X-WR-RELCALID:82cb3d3471f8c1bf9c78c28f1dabf427
X-WR-TIMEZONE:America/Chicago
BEGIN:VTIMEZONE
TZID:America/Chicago
BEGIN:STANDARD
TZNAME:CST
DTSTART:20281105T020000
TZOFFSETFROM:-0500
TZOFFSETTO:-0600
RDATE:20291104T020000
RDATE:20301103T020000
END:STANDARD
BEGIN:DAYLIGHT
TZNAME:CDT
DTSTART:20290311T020000
TZOFFSETFROM:-0600
TZOFFSETTO:-0500
RDATE:20300310T020000
RDATE:20310309T020000
END:DAYLIGHT
END:VTIMEZONE
BEGIN:VEVENT
UID:753e369b-5594-4b2c-a8f8-0fb4da37a2f3
DTSTAMP:20260424T092415Z
DESCRIPTION:Monthly Board Meeting
DTSTART;TZID=America/Chicago:20291012T183000
DTEND;TZID=America/Chicago:20291012T200000
LOCATION:Atrium Meeting Room
SUMMARY:Board Meeting
END:VEVENT
END:VCALENDAR
