BEGIN:VCALENDAR
VERSION:2.0
PRODID:-//horizon-training.presencehost.net//NONSGML kigkonsult.se iCalcrea
 tor 2.30.10//
CALSCALE:GREGORIAN
METHOD:PUBLISH
UID:edf4836b-97cc-4580-b496-3c5de02bd575
X-WR-CALDESC:Monthly Board Meeting
X-WR-RELCALID:75f89c373859cc3282618c08d22010e8
X-WR-TIMEZONE:America/Chicago
BEGIN:VTIMEZONE
TZID:America/Chicago
BEGIN:STANDARD
TZNAME:CST
DTSTART:20281105T020000
TZOFFSETFROM:-0500
TZOFFSETTO:-0600
RDATE:20291104T020000
RDATE:20301103T020000
END:STANDARD
BEGIN:DAYLIGHT
TZNAME:CDT
DTSTART:20290311T020000
TZOFFSETFROM:-0600
TZOFFSETTO:-0500
RDATE:20300310T020000
END:DAYLIGHT
END:VTIMEZONE
BEGIN:VEVENT
UID:fac99014-089f-44d2-bcf7-b74ed2e5309e
DTSTAMP:20260424T035507Z
DESCRIPTION:Monthly Board Meeting
DTSTART;TZID=America/Chicago:20290713T183000
DTEND;TZID=America/Chicago:20290713T200000
LOCATION:Atrium Meeting Room
SUMMARY:Board Meeting
END:VEVENT
END:VCALENDAR
