BEGIN:VCALENDAR
VERSION:2.0
PRODID:-//horizon-training.presencehost.net//NONSGML kigkonsult.se iCalcrea
 tor 2.30.10//
CALSCALE:GREGORIAN
METHOD:PUBLISH
UID:e0758d48-1667-481d-86e2-1170f7a418d2
X-WR-CALDESC:Monthly Board Meeting
X-WR-RELCALID:f29bbd31851817a8ee17b38a3e785fa3
X-WR-TIMEZONE:America/Chicago
BEGIN:VTIMEZONE
TZID:America/Chicago
BEGIN:STANDARD
TZNAME:CST
DTSTART:20281105T020000
TZOFFSETFROM:-0500
TZOFFSETTO:-0600
RDATE:20291104T020000
RDATE:20301103T020000
END:STANDARD
BEGIN:DAYLIGHT
TZNAME:CDT
DTSTART:20290311T020000
TZOFFSETFROM:-0600
TZOFFSETTO:-0500
RDATE:20300310T020000
END:DAYLIGHT
END:VTIMEZONE
BEGIN:VEVENT
UID:a1f18c54-1141-49de-ae52-1c8f0f0b4bb7
DTSTAMP:20260424T021813Z
DESCRIPTION:Monthly Board Meeting
DTSTART;TZID=America/Chicago:20290608T183000
DTEND;TZID=America/Chicago:20290608T200000
LOCATION:Atrium Meeting Room
SUMMARY:Board Meeting
END:VEVENT
END:VCALENDAR
