BEGIN:VCALENDAR
VERSION:2.0
PRODID:-//horizon-training.presencehost.net//NONSGML kigkonsult.se iCalcrea
 tor 2.30.10//
CALSCALE:GREGORIAN
METHOD:PUBLISH
UID:e857e0de-2693-4c26-85ea-7bd989c1e07d
X-WR-CALDESC:Monthly Board Meeting
X-WR-RELCALID:de01dd00bb2533eaca2737fcdfbdcb86
X-WR-TIMEZONE:America/Chicago
BEGIN:VTIMEZONE
TZID:America/Chicago
BEGIN:STANDARD
TZNAME:CST
DTSTART:20281105T020000
TZOFFSETFROM:-0500
TZOFFSETTO:-0600
RDATE:20291104T020000
RDATE:20301103T020000
END:STANDARD
BEGIN:DAYLIGHT
TZNAME:CDT
DTSTART:20290311T020000
TZOFFSETFROM:-0600
TZOFFSETTO:-0500
RDATE:20300310T020000
END:DAYLIGHT
END:VTIMEZONE
BEGIN:VEVENT
UID:81e5ecf1-a137-49fe-ae41-44e8acd0836e
DTSTAMP:20260424T005411Z
DESCRIPTION:Monthly Board Meeting
DTSTART;TZID=America/Chicago:20290511T183000
DTEND;TZID=America/Chicago:20290511T200000
LOCATION:Atrium Meeting Room
SUMMARY:Board Meeting
END:VEVENT
END:VCALENDAR
