BEGIN:VCALENDAR
VERSION:2.0
PRODID:-//horizon-training.presencehost.net//NONSGML kigkonsult.se iCalcrea
 tor 2.30.10//
CALSCALE:GREGORIAN
METHOD:PUBLISH
UID:ded4739d-3c78-40be-875d-deb96d4ceb6f
X-WR-CALDESC:Monthly Board Meeting
X-WR-RELCALID:9e5a5ab38d2759824f49f5c9d38e616f
X-WR-TIMEZONE:America/Chicago
BEGIN:VTIMEZONE
TZID:America/Chicago
BEGIN:STANDARD
TZNAME:CST
DTSTART:20281105T020000
TZOFFSETFROM:-0500
TZOFFSETTO:-0600
RDATE:20291104T020000
END:STANDARD
BEGIN:DAYLIGHT
TZNAME:CDT
DTSTART:20290311T020000
TZOFFSETFROM:-0600
TZOFFSETTO:-0500
RDATE:20300310T020000
END:DAYLIGHT
END:VTIMEZONE
BEGIN:VEVENT
UID:fae1c786-0d33-4dbd-8f0d-3015404255f7
DTSTAMP:20260423T231638Z
DESCRIPTION:Monthly Board Meeting
DTSTART;TZID=America/Chicago:20290413T183000
DTEND;TZID=America/Chicago:20290413T200000
LOCATION:Atrium Meeting Room
SUMMARY:Board Meeting
END:VEVENT
END:VCALENDAR
