BEGIN:VCALENDAR
VERSION:2.0
PRODID:-//horizon-training.presencehost.net//NONSGML kigkonsult.se iCalcrea
 tor 2.30.10//
CALSCALE:GREGORIAN
METHOD:PUBLISH
UID:8ab8fa14-155a-49af-8421-70c56f3036d0
X-WR-CALDESC:Monthly Board Meeting
X-WR-RELCALID:e1951891ed1e2530a95e1362bc13e3bb
X-WR-TIMEZONE:America/Chicago
BEGIN:VTIMEZONE
TZID:America/Chicago
BEGIN:STANDARD
TZNAME:CST
DTSTART:20281105T020000
TZOFFSETFROM:-0500
TZOFFSETTO:-0600
RDATE:20291104T020000
END:STANDARD
BEGIN:DAYLIGHT
TZNAME:CDT
DTSTART:20280312T020000
TZOFFSETFROM:-0600
TZOFFSETTO:-0500
RDATE:20290311T020000
RDATE:20300310T020000
END:DAYLIGHT
END:VTIMEZONE
BEGIN:VEVENT
UID:b0faa094-5243-4542-b02c-ae048e998121
DTSTAMP:20260423T194847Z
DESCRIPTION:Monthly Board Meeting
DTSTART;TZID=America/Chicago:20290209T183000
DTEND;TZID=America/Chicago:20290209T200000
LOCATION:Atrium Meeting Room
SUMMARY:Board Meeting
END:VEVENT
END:VCALENDAR
