BEGIN:VCALENDAR
VERSION:2.0
PRODID:-//horizon-training.presencehost.net//NONSGML kigkonsult.se iCalcrea
 tor 2.30.10//
CALSCALE:GREGORIAN
METHOD:PUBLISH
UID:d2d3c6ea-eb68-40f1-bbf4-b9bc1402385d
X-WR-CALDESC:Monthly Board Meeting
X-WR-RELCALID:3e7824fac0716da0ad4732c89508f0c9
X-WR-TIMEZONE:America/Chicago
BEGIN:VTIMEZONE
TZID:America/Chicago
BEGIN:STANDARD
TZNAME:CST
DTSTART:20281105T020000
TZOFFSETFROM:-0500
TZOFFSETTO:-0600
RDATE:20291104T020000
END:STANDARD
BEGIN:DAYLIGHT
TZNAME:CDT
DTSTART:20280312T020000
TZOFFSETFROM:-0600
TZOFFSETTO:-0500
RDATE:20290311T020000
RDATE:20300310T020000
END:DAYLIGHT
END:VTIMEZONE
BEGIN:VEVENT
UID:b4cf1885-a73b-4115-a338-6ff8c81a67b3
DTSTAMP:20260423T181034Z
DESCRIPTION:Monthly Board Meeting
DTSTART;TZID=America/Chicago:20290112T183000
DTEND;TZID=America/Chicago:20290112T200000
LOCATION:Atrium Meeting Room
SUMMARY:Board Meeting
END:VEVENT
END:VCALENDAR
