BEGIN:VCALENDAR
VERSION:2.0
PRODID:-//horizon-training.presencehost.net//NONSGML kigkonsult.se iCalcrea
 tor 2.30.10//
CALSCALE:GREGORIAN
METHOD:PUBLISH
UID:c4d05472-6d00-42f9-aeeb-8fbd59c3ae4d
X-WR-CALDESC:Monthly Board Meeting
X-WR-RELCALID:2ef063815af605139817821ed68f5a51
X-WR-TIMEZONE:America/Chicago
BEGIN:VTIMEZONE
TZID:America/Chicago
BEGIN:STANDARD
TZNAME:CST
DTSTART:20271107T020000
TZOFFSETFROM:-0500
TZOFFSETTO:-0600
RDATE:20281105T020000
RDATE:20291104T020000
END:STANDARD
BEGIN:DAYLIGHT
TZNAME:CDT
DTSTART:20280312T020000
TZOFFSETFROM:-0600
TZOFFSETTO:-0500
RDATE:20290311T020000
RDATE:20300310T020000
END:DAYLIGHT
END:VTIMEZONE
BEGIN:VEVENT
UID:395ae2ff-d403-45ba-830d-9a8db4a5f74b
DTSTAMP:20260423T131126Z
DESCRIPTION:Monthly Board Meeting
DTSTART;TZID=America/Chicago:20281013T183000
DTEND;TZID=America/Chicago:20281013T200000
LOCATION:Atrium Meeting Room
SUMMARY:Board Meeting
END:VEVENT
END:VCALENDAR
