BEGIN:VCALENDAR
VERSION:2.0
PRODID:-//horizon-training.presencehost.net//NONSGML kigkonsult.se iCalcrea
 tor 2.30.10//
CALSCALE:GREGORIAN
METHOD:PUBLISH
UID:ee3e8825-9663-4e49-812e-26f16564434c
X-WR-CALDESC:Monthly Board Meeting
X-WR-RELCALID:b2ae7f940581f7115100d296403bed24
X-WR-TIMEZONE:America/Chicago
BEGIN:VTIMEZONE
TZID:America/Chicago
BEGIN:STANDARD
TZNAME:CST
DTSTART:20271107T020000
TZOFFSETFROM:-0500
TZOFFSETTO:-0600
RDATE:20281105T020000
RDATE:20291104T020000
END:STANDARD
BEGIN:DAYLIGHT
TZNAME:CDT
DTSTART:20280312T020000
TZOFFSETFROM:-0600
TZOFFSETTO:-0500
RDATE:20290311T020000
END:DAYLIGHT
END:VTIMEZONE
BEGIN:VEVENT
UID:848a1ca1-8d8c-4fcb-9570-9d9accf4a392
DTSTAMP:20260423T050450Z
DESCRIPTION:Monthly Board Meeting
DTSTART;TZID=America/Chicago:20280512T183000
DTEND;TZID=America/Chicago:20280512T200000
LOCATION:Atrium Meeting Room
SUMMARY:Board Meeting
END:VEVENT
END:VCALENDAR
