BEGIN:VCALENDAR
VERSION:2.0
PRODID:-//horizon-training.presencehost.net//NONSGML kigkonsult.se iCalcrea
 tor 2.30.10//
CALSCALE:GREGORIAN
METHOD:PUBLISH
UID:8c3c6391-fac6-4666-b9c1-922e86c630d8
X-WR-CALDESC:Monthly Board Meeting
X-WR-RELCALID:f3369751396ff66d1c1492511c2ed4ba
X-WR-TIMEZONE:America/Chicago
BEGIN:VTIMEZONE
TZID:America/Chicago
BEGIN:STANDARD
TZNAME:CST
DTSTART:20271107T020000
TZOFFSETFROM:-0500
TZOFFSETTO:-0600
RDATE:20281105T020000
END:STANDARD
BEGIN:DAYLIGHT
TZNAME:CDT
DTSTART:20270314T020000
TZOFFSETFROM:-0600
TZOFFSETTO:-0500
RDATE:20280312T020000
RDATE:20290311T020000
END:DAYLIGHT
END:VTIMEZONE
BEGIN:VEVENT
UID:8586cadb-4b2f-4ae9-aa2f-d2ccb267a7d2
DTSTAMP:20260423T014621Z
DESCRIPTION:Monthly Board Meeting
DTSTART;TZID=America/Chicago:20280310T183000
DTEND;TZID=America/Chicago:20280310T200000
LOCATION:Atrium Meeting Room
SUMMARY:Board Meeting
END:VEVENT
END:VCALENDAR
