BEGIN:VCALENDAR
VERSION:2.0
PRODID:-//horizon-training.presencehost.net//NONSGML kigkonsult.se iCalcrea
 tor 2.30.10//
CALSCALE:GREGORIAN
METHOD:PUBLISH
UID:1a057fc6-1f64-451f-a630-46f032f4f78c
X-WR-CALDESC:Monthly Board Meeting
X-WR-RELCALID:76e4d05dce61fa342d3bf43b0407e8da
X-WR-TIMEZONE:America/Chicago
BEGIN:VTIMEZONE
TZID:America/Chicago
BEGIN:STANDARD
TZNAME:CST
DTSTART:20271107T020000
TZOFFSETFROM:-0500
TZOFFSETTO:-0600
RDATE:20281105T020000
END:STANDARD
BEGIN:DAYLIGHT
TZNAME:CDT
DTSTART:20270314T020000
TZOFFSETFROM:-0600
TZOFFSETTO:-0500
RDATE:20280312T020000
RDATE:20290311T020000
END:DAYLIGHT
END:VTIMEZONE
BEGIN:VEVENT
UID:018e2708-6233-4cf3-a105-1cb642589ddc
DTSTAMP:20260423T001049Z
DESCRIPTION:Monthly Board Meeting
DTSTART;TZID=America/Chicago:20280211T183000
DTEND;TZID=America/Chicago:20280211T200000
LOCATION:Atrium Meeting Room
SUMMARY:Board Meeting
END:VEVENT
END:VCALENDAR
