BEGIN:VCALENDAR
VERSION:2.0
PRODID:-//horizon-training.presencehost.net//NONSGML kigkonsult.se iCalcrea
 tor 2.30.10//
CALSCALE:GREGORIAN
METHOD:PUBLISH
UID:42ce55da-8d47-4102-8779-78875a4fb39e
X-WR-CALDESC:Monthly Board Meeting
X-WR-RELCALID:e855f78aae81ad36150a4fc6165a9740
X-WR-TIMEZONE:America/Chicago
BEGIN:VTIMEZONE
TZID:America/Chicago
BEGIN:STANDARD
TZNAME:CST
DTSTART:20271107T020000
TZOFFSETFROM:-0500
TZOFFSETTO:-0600
RDATE:20281105T020000
END:STANDARD
BEGIN:DAYLIGHT
TZNAME:CDT
DTSTART:20270314T020000
TZOFFSETFROM:-0600
TZOFFSETTO:-0500
RDATE:20280312T020000
RDATE:20290311T020000
END:DAYLIGHT
END:VTIMEZONE
BEGIN:VEVENT
UID:e57fb32a-64b1-4030-a56b-3ed0a36cc4ec
DTSTAMP:20260422T222111Z
DESCRIPTION:Monthly Board Meeting
DTSTART;TZID=America/Chicago:20280114T183000
DTEND;TZID=America/Chicago:20280114T200000
LOCATION:Atrium Meeting Room
SUMMARY:Board Meeting
END:VEVENT
END:VCALENDAR
