BEGIN:VCALENDAR
VERSION:2.0
PRODID:-//horizon-training.presencehost.net//NONSGML kigkonsult.se iCalcrea
 tor 2.30.10//
CALSCALE:GREGORIAN
METHOD:PUBLISH
UID:81eb98f3-1646-4352-aaa8-df226cf46467
X-WR-CALDESC:Monthly Board Meeting
X-WR-RELCALID:dc11a9a217103ec47cbe1c3865529cad
X-WR-TIMEZONE:America/Chicago
BEGIN:VTIMEZONE
TZID:America/Chicago
BEGIN:STANDARD
TZNAME:CST
DTSTART:20271107T020000
TZOFFSETFROM:-0500
TZOFFSETTO:-0600
RDATE:20281105T020000
END:STANDARD
BEGIN:DAYLIGHT
TZNAME:CDT
DTSTART:20270314T020000
TZOFFSETFROM:-0600
TZOFFSETTO:-0500
RDATE:20280312T020000
RDATE:20290311T020000
END:DAYLIGHT
END:VTIMEZONE
BEGIN:VEVENT
UID:91f7eb26-2c1f-41cb-88cd-223fb27e0886
DTSTAMP:20260422T203505Z
DESCRIPTION:Monthly Board Meeting
DTSTART;TZID=America/Chicago:20271210T183000
DTEND;TZID=America/Chicago:20271210T200000
LOCATION:Atrium Meeting Room
SUMMARY:Board Meeting
END:VEVENT
END:VCALENDAR
