BEGIN:VCALENDAR
VERSION:2.0
PRODID:-//horizon-training.presencehost.net//NONSGML kigkonsult.se iCalcrea
 tor 2.30.10//
CALSCALE:GREGORIAN
METHOD:PUBLISH
UID:b9a15f48-009a-4ef9-9284-70c3e3d6b436
X-WR-CALDESC:Monthly Board Meeting
X-WR-RELCALID:5d8d278d32724e26b5339dc7acde4b4d
X-WR-TIMEZONE:America/Chicago
BEGIN:VTIMEZONE
TZID:America/Chicago
BEGIN:STANDARD
TZNAME:CST
DTSTART:20261101T020000
TZOFFSETFROM:-0500
TZOFFSETTO:-0600
RDATE:20271107T020000
RDATE:20281105T020000
END:STANDARD
BEGIN:DAYLIGHT
TZNAME:CDT
DTSTART:20270314T020000
TZOFFSETFROM:-0600
TZOFFSETTO:-0500
RDATE:20280312T020000
RDATE:20290311T020000
END:DAYLIGHT
END:VTIMEZONE
BEGIN:VEVENT
UID:78a3ae63-08bc-4d53-b0d2-6106f9f9100f
DTSTAMP:20260422T174607Z
DESCRIPTION:Monthly Board Meeting
DTSTART;TZID=America/Chicago:20271008T183000
DTEND;TZID=America/Chicago:20271008T200000
LOCATION:Atrium Meeting Room
SUMMARY:Board Meeting
END:VEVENT
END:VCALENDAR
