BEGIN:VCALENDAR
VERSION:2.0
PRODID:-//horizon-training.presencehost.net//NONSGML kigkonsult.se iCalcrea
 tor 2.30.10//
CALSCALE:GREGORIAN
METHOD:PUBLISH
UID:38295a57-169b-4661-bfd0-798d7c4d0704
X-WR-CALDESC:Monthly Board Meeting
X-WR-RELCALID:d9059dbc3285d6b8e9ba3f83d84a0bd5
X-WR-TIMEZONE:America/Chicago
BEGIN:VTIMEZONE
TZID:America/Chicago
BEGIN:STANDARD
TZNAME:CST
DTSTART:20261101T020000
TZOFFSETFROM:-0500
TZOFFSETTO:-0600
RDATE:20271107T020000
RDATE:20281105T020000
END:STANDARD
BEGIN:DAYLIGHT
TZNAME:CDT
DTSTART:20270314T020000
TZOFFSETFROM:-0600
TZOFFSETTO:-0500
RDATE:20280312T020000
END:DAYLIGHT
END:VTIMEZONE
BEGIN:VEVENT
UID:fe2a62cb-0a20-4258-9514-c0856d6f1bed
DTSTAMP:20260422T142650Z
DESCRIPTION:Monthly Board Meeting
DTSTART;TZID=America/Chicago:20270813T183000
DTEND;TZID=America/Chicago:20270813T200000
LOCATION:Atrium Meeting Room
SUMMARY:Board Meeting
END:VEVENT
END:VCALENDAR
