BEGIN:VCALENDAR
VERSION:2.0
PRODID:-//horizon-training.presencehost.net//NONSGML kigkonsult.se iCalcrea
 tor 2.30.10//
CALSCALE:GREGORIAN
METHOD:PUBLISH
UID:e6e67f51-efb7-4e69-acb9-97e2a2c0b430
X-WR-CALDESC:Monthly Board Meeting
X-WR-RELCALID:29ab18792904b5d5a025424a531fa7eb
X-WR-TIMEZONE:America/Chicago
BEGIN:VTIMEZONE
TZID:America/Chicago
BEGIN:STANDARD
TZNAME:CST
DTSTART:20261101T020000
TZOFFSETFROM:-0500
TZOFFSETTO:-0600
RDATE:20271107T020000
RDATE:20281105T020000
END:STANDARD
BEGIN:DAYLIGHT
TZNAME:CDT
DTSTART:20270314T020000
TZOFFSETFROM:-0600
TZOFFSETTO:-0500
RDATE:20280312T020000
END:DAYLIGHT
END:VTIMEZONE
BEGIN:VEVENT
UID:760f15ae-791b-4e1e-b848-61222e3eeec9
DTSTAMP:20260422T130708Z
DESCRIPTION:Monthly Board Meeting
DTSTART;TZID=America/Chicago:20270709T183000
DTEND;TZID=America/Chicago:20270709T200000
LOCATION:Atrium Meeting Room
SUMMARY:Board Meeting
END:VEVENT
END:VCALENDAR
