BEGIN:VCALENDAR
VERSION:2.0
PRODID:-//horizon-training.presencehost.net//NONSGML kigkonsult.se iCalcrea
 tor 2.30.10//
CALSCALE:GREGORIAN
METHOD:PUBLISH
UID:0003c6c0-749b-482a-ae51-a258071ccf8e
X-WR-CALDESC:Monthly Board Meeting
X-WR-RELCALID:06a9e0ed8229444e80a160f17fafecea
X-WR-TIMEZONE:America/Chicago
BEGIN:VTIMEZONE
TZID:America/Chicago
BEGIN:STANDARD
TZNAME:CST
DTSTART:20261101T020000
TZOFFSETFROM:-0500
TZOFFSETTO:-0600
RDATE:20271107T020000
RDATE:20281105T020000
END:STANDARD
BEGIN:DAYLIGHT
TZNAME:CDT
DTSTART:20270314T020000
TZOFFSETFROM:-0600
TZOFFSETTO:-0500
RDATE:20280312T020000
END:DAYLIGHT
END:VTIMEZONE
BEGIN:VEVENT
UID:26f8348a-7da4-4325-8150-20c158e6012b
DTSTAMP:20260422T113918Z
DESCRIPTION:Monthly Board Meeting
DTSTART;TZID=America/Chicago:20270611T183000
DTEND;TZID=America/Chicago:20270611T200000
LOCATION:Atrium Meeting Room
SUMMARY:Board Meeting
END:VEVENT
END:VCALENDAR
