BEGIN:VCALENDAR
VERSION:2.0
PRODID:-//horizon-training.presencehost.net//NONSGML kigkonsult.se iCalcrea
 tor 2.30.10//
CALSCALE:GREGORIAN
METHOD:PUBLISH
UID:90dc0f88-3f51-4327-a8aa-fcab542c5881
X-WR-CALDESC:Monthly Board Meeting
X-WR-RELCALID:d4b0ec85dd67a27b6bb5fcfc7c32326f
X-WR-TIMEZONE:America/Chicago
BEGIN:VTIMEZONE
TZID:America/Chicago
BEGIN:STANDARD
TZNAME:CST
DTSTART:20261101T020000
TZOFFSETFROM:-0500
TZOFFSETTO:-0600
RDATE:20271107T020000
RDATE:20281105T020000
END:STANDARD
BEGIN:DAYLIGHT
TZNAME:CDT
DTSTART:20270314T020000
TZOFFSETFROM:-0600
TZOFFSETTO:-0500
RDATE:20280312T020000
END:DAYLIGHT
END:VTIMEZONE
BEGIN:VEVENT
UID:f202dbd9-6c3a-4465-86e4-596822310726
DTSTAMP:20260422T100644Z
DESCRIPTION:Monthly Board Meeting
DTSTART;TZID=America/Chicago:20270514T183000
DTEND;TZID=America/Chicago:20270514T200000
LOCATION:Atrium Meeting Room
SUMMARY:Board Meeting
END:VEVENT
END:VCALENDAR
