BEGIN:VCALENDAR
VERSION:2.0
PRODID:-//horizon-training.presencehost.net//NONSGML kigkonsult.se iCalcrea
 tor 2.30.10//
CALSCALE:GREGORIAN
METHOD:PUBLISH
UID:01362cab-c45e-4bdf-820d-8f97216fab9a
X-WR-CALDESC:Monthly Board Meeting
X-WR-RELCALID:cc1c6e642b0eb60ebd02e7bbce061a5d
X-WR-TIMEZONE:America/Chicago
BEGIN:VTIMEZONE
TZID:America/Chicago
BEGIN:STANDARD
TZNAME:CST
DTSTART:20241103T020000
TZOFFSETFROM:-0500
TZOFFSETTO:-0600
RDATE:20251102T020000
RDATE:20261101T020000
END:STANDARD
BEGIN:DAYLIGHT
TZNAME:CDT
DTSTART:20250309T020000
TZOFFSETFROM:-0600
TZOFFSETTO:-0500
RDATE:20260308T020000
END:DAYLIGHT
END:VTIMEZONE
BEGIN:VEVENT
UID:d05a134e-bf4e-4cef-889a-2344f2a72382
DTSTAMP:20260422T083119Z
DESCRIPTION:Monthly Board Meeting
DTSTART;TZID=America/Chicago:20250613T183000
DTEND;TZID=America/Chicago:20250613T200000
LOCATION:Atrium Meeting Room
SUMMARY:Board Meeting
END:VEVENT
END:VCALENDAR
