BEGIN:VCALENDAR
VERSION:2.0
PRODID:-//horizon-training.presencehost.net//NONSGML kigkonsult.se iCalcrea
 tor 2.30.10//
CALSCALE:GREGORIAN
METHOD:PUBLISH
UID:876e37d5-33d1-4f9b-8469-b32967b0c63b
X-WR-CALDESC:Monthly Board Meeting
X-WR-RELCALID:fa3356dc2ba8edca01c550fba997d21c
X-WR-TIMEZONE:America/Chicago
BEGIN:VTIMEZONE
TZID:America/Chicago
BEGIN:STANDARD
TZNAME:CST
DTSTART:20241103T020000
TZOFFSETFROM:-0500
TZOFFSETTO:-0600
RDATE:20251102T020000
END:STANDARD
BEGIN:DAYLIGHT
TZNAME:CDT
DTSTART:20250309T020000
TZOFFSETFROM:-0600
TZOFFSETTO:-0500
RDATE:20260308T020000
END:DAYLIGHT
END:VTIMEZONE
BEGIN:VEVENT
UID:22afac42-772c-4e04-9b07-889c771827bf
DTSTAMP:20260422T130252Z
DESCRIPTION:Monthly Board Meeting
DTSTART;TZID=America/Chicago:20250314T183000
DTEND;TZID=America/Chicago:20250314T200000
LOCATION:Atrium Meeting Room
SUMMARY:Board Meeting
END:VEVENT
END:VCALENDAR
