BEGIN:VCALENDAR
VERSION:2.0
PRODID:-//horizon-training.presencehost.net//NONSGML kigkonsult.se iCalcrea
 tor 2.30.10//
CALSCALE:GREGORIAN
METHOD:PUBLISH
UID:d9c15824-a167-46a2-aac5-6609cef11fc9
X-WR-CALDESC:Monthly Board Meeting
X-WR-RELCALID:f65340f86358752677b684e272e5b97a
X-WR-TIMEZONE:America/Chicago
BEGIN:VTIMEZONE
TZID:America/Chicago
BEGIN:STANDARD
TZNAME:CST
DTSTART:20241103T020000
TZOFFSETFROM:-0500
TZOFFSETTO:-0600
RDATE:20251102T020000
END:STANDARD
BEGIN:DAYLIGHT
TZNAME:CDT
DTSTART:20240310T020000
TZOFFSETFROM:-0600
TZOFFSETTO:-0500
RDATE:20250309T020000
RDATE:20260308T020000
END:DAYLIGHT
END:VTIMEZONE
BEGIN:VEVENT
UID:73a9cbf3-c62b-4a2b-8373-872208bc6325
DTSTAMP:20260422T155613Z
DESCRIPTION:Monthly Board Meeting
DTSTART;TZID=America/Chicago:20250110T183000
DTEND;TZID=America/Chicago:20250110T200000
LOCATION:Atrium Meeting Room
SUMMARY:Board Meeting
END:VEVENT
END:VCALENDAR
