BEGIN:VCALENDAR
VERSION:2.0
PRODID:-//horizon-training.presencehost.net//NONSGML kigkonsult.se iCalcrea
 tor 2.30.10//
CALSCALE:GREGORIAN
METHOD:PUBLISH
UID:533bf19d-bdbf-43e6-b96f-8bf34d82de34
X-WR-CALDESC:Monthly Board Meeting
X-WR-RELCALID:119f259f4e56f614212858faa35e614d
X-WR-TIMEZONE:America/Chicago
BEGIN:VTIMEZONE
TZID:America/Chicago
BEGIN:STANDARD
TZNAME:CST
DTSTART:20241103T020000
TZOFFSETFROM:-0500
TZOFFSETTO:-0600
RDATE:20251102T020000
END:STANDARD
BEGIN:DAYLIGHT
TZNAME:CDT
DTSTART:20240310T020000
TZOFFSETFROM:-0600
TZOFFSETTO:-0500
RDATE:20250309T020000
RDATE:20260308T020000
END:DAYLIGHT
END:VTIMEZONE
BEGIN:VEVENT
UID:655bef21-a1c1-4729-8db1-1588e94016e4
DTSTAMP:20260422T185158Z
DESCRIPTION:Monthly Board Meeting
DTSTART;TZID=America/Chicago:20241108T183000
DTEND;TZID=America/Chicago:20241108T200000
LOCATION:Atrium Meeting Room
SUMMARY:Board Meeting
END:VEVENT
END:VCALENDAR
