BEGIN:VCALENDAR
VERSION:2.0
PRODID:-//horizon-training.presencehost.net//NONSGML kigkonsult.se iCalcrea
 tor 2.30.10//
CALSCALE:GREGORIAN
METHOD:PUBLISH
UID:02c0cdf0-60c2-466a-b31c-4b94de529eaa
X-WR-CALDESC:Monthly Board Meeting
X-WR-RELCALID:b00377efcecb835272f8d78368e81aa3
X-WR-TIMEZONE:America/Chicago
BEGIN:VTIMEZONE
TZID:America/Chicago
BEGIN:STANDARD
TZNAME:CST
DTSTART:20231105T020000
TZOFFSETFROM:-0500
TZOFFSETTO:-0600
RDATE:20241103T020000
RDATE:20251102T020000
END:STANDARD
BEGIN:DAYLIGHT
TZNAME:CDT
DTSTART:20240310T020000
TZOFFSETFROM:-0600
TZOFFSETTO:-0500
RDATE:20250309T020000
RDATE:20260308T020000
END:DAYLIGHT
END:VTIMEZONE
BEGIN:VEVENT
UID:bd1aea1b-e693-4aba-a3bb-e8f772a1afdb
DTSTAMP:20260422T203505Z
DESCRIPTION:Monthly Board Meeting
DTSTART;TZID=America/Chicago:20241011T183000
DTEND;TZID=America/Chicago:20241011T200000
LOCATION:Atrium Meeting Room
SUMMARY:Board Meeting
END:VEVENT
END:VCALENDAR
