BEGIN:VCALENDAR
VERSION:2.0
PRODID:-//horizon-training.presencehost.net//NONSGML kigkonsult.se iCalcrea
 tor 2.30.10//
CALSCALE:GREGORIAN
METHOD:PUBLISH
UID:3f8dfbbd-5622-4609-96f8-9c4980cb1ad5
X-WR-CALDESC:Monthly Board Meeting
X-WR-RELCALID:423e717aeac2c0dde8f38a6acc92620d
X-WR-TIMEZONE:America/Chicago
BEGIN:VTIMEZONE
TZID:America/Chicago
BEGIN:STANDARD
TZNAME:CST
DTSTART:20231105T020000
TZOFFSETFROM:-0500
TZOFFSETTO:-0600
RDATE:20241103T020000
RDATE:20251102T020000
END:STANDARD
BEGIN:DAYLIGHT
TZNAME:CDT
DTSTART:20240310T020000
TZOFFSETFROM:-0600
TZOFFSETTO:-0500
RDATE:20250309T020000
END:DAYLIGHT
END:VTIMEZONE
BEGIN:VEVENT
UID:f13adb22-dd8d-4afc-92ce-2d237a2c950e
DTSTAMP:20260423T014620Z
DESCRIPTION:Monthly Board Meeting
DTSTART;TZID=America/Chicago:20240712T183000
DTEND;TZID=America/Chicago:20240712T200000
LOCATION:Atrium Meeting Room
SUMMARY:Board Meeting
END:VEVENT
END:VCALENDAR
