BEGIN:VCALENDAR
VERSION:2.0
PRODID:-//horizon-training.presencehost.net//NONSGML kigkonsult.se iCalcrea
 tor 2.30.10//
CALSCALE:GREGORIAN
METHOD:PUBLISH
UID:d83f215e-d5cb-479e-94a9-7e357ae7dc92
X-WR-CALDESC:Monthly Board Meeting
X-WR-RELCALID:290cdfa62dba8ccb64a7d9af5caf0d2b
X-WR-TIMEZONE:America/Chicago
BEGIN:VTIMEZONE
TZID:America/Chicago
BEGIN:STANDARD
TZNAME:CST
DTSTART:20231105T020000
TZOFFSETFROM:-0500
TZOFFSETTO:-0600
RDATE:20241103T020000
RDATE:20251102T020000
END:STANDARD
BEGIN:DAYLIGHT
TZNAME:CDT
DTSTART:20240310T020000
TZOFFSETFROM:-0600
TZOFFSETTO:-0500
RDATE:20250309T020000
END:DAYLIGHT
END:VTIMEZONE
BEGIN:VEVENT
UID:39ffaeb3-cb6e-457b-a888-678106a39354
DTSTAMP:20260423T033945Z
DESCRIPTION:Monthly Board Meeting
DTSTART;TZID=America/Chicago:20240614T183000
DTEND;TZID=America/Chicago:20240614T200000
LOCATION:Atrium Meeting Room
SUMMARY:Board Meeting
END:VEVENT
END:VCALENDAR
