BEGIN:VCALENDAR
VERSION:2.0
PRODID:-//horizon-training.presencehost.net//NONSGML kigkonsult.se iCalcrea
 tor 2.30.10//
CALSCALE:GREGORIAN
METHOD:PUBLISH
UID:3471a92e-bf64-45f4-aa15-8f359b1dcc5d
X-WR-CALDESC:Monthly Board Meeting
X-WR-RELCALID:8d3659e8dd88bc46efe34b6c4e91c84c
X-WR-TIMEZONE:America/Chicago
BEGIN:VTIMEZONE
TZID:America/Chicago
BEGIN:STANDARD
TZNAME:CST
DTSTART:20231105T020000
TZOFFSETFROM:-0500
TZOFFSETTO:-0600
RDATE:20241103T020000
RDATE:20251102T020000
END:STANDARD
BEGIN:DAYLIGHT
TZNAME:CDT
DTSTART:20240310T020000
TZOFFSETFROM:-0600
TZOFFSETTO:-0500
RDATE:20250309T020000
END:DAYLIGHT
END:VTIMEZONE
BEGIN:VEVENT
UID:03bd5e73-2299-4ded-a605-08031640b6ab
DTSTAMP:20260423T050349Z
DESCRIPTION:Monthly Board Meeting
DTSTART;TZID=America/Chicago:20240510T183000
DTEND;TZID=America/Chicago:20240510T200000
LOCATION:Atrium Meeting Room
SUMMARY:Board Meeting
END:VEVENT
END:VCALENDAR
