BEGIN:VCALENDAR
VERSION:2.0
PRODID:-//horizon-training.presencehost.net//NONSGML kigkonsult.se iCalcrea
 tor 2.30.10//
CALSCALE:GREGORIAN
METHOD:PUBLISH
UID:f005c9d4-d070-40bd-92f8-1f8f5bebcb08
X-WR-CALDESC:Monthly Board Meeting
X-WR-RELCALID:04060cb7151c05169759a274e34c4596
X-WR-TIMEZONE:America/Chicago
BEGIN:VTIMEZONE
TZID:America/Chicago
BEGIN:STANDARD
TZNAME:CST
DTSTART:20231105T020000
TZOFFSETFROM:-0500
TZOFFSETTO:-0600
RDATE:20241103T020000
END:STANDARD
BEGIN:DAYLIGHT
TZNAME:CDT
DTSTART:20240310T020000
TZOFFSETFROM:-0600
TZOFFSETTO:-0500
RDATE:20250309T020000
END:DAYLIGHT
END:VTIMEZONE
BEGIN:VEVENT
UID:1cfbaa37-5df1-4050-b51c-2d8c2f9330b3
DTSTAMP:20260423T063752Z
DESCRIPTION:Monthly Board Meeting
DTSTART;TZID=America/Chicago:20240412T183000
DTEND;TZID=America/Chicago:20240412T200000
LOCATION:Atrium Meeting Room
SUMMARY:Board Meeting
END:VEVENT
END:VCALENDAR
