BEGIN:VCALENDAR
VERSION:2.0
PRODID:-//horizon-training.presencehost.net//NONSGML kigkonsult.se iCalcrea
 tor 2.30.10//
CALSCALE:GREGORIAN
METHOD:PUBLISH
UID:39b5acee-162f-4ea7-81d0-bb5877d0e7f5
X-WR-CALDESC:Monthly Board Meeting
X-WR-RELCALID:fcc12a890d64e6604b331f4aacc4181a
X-WR-TIMEZONE:America/Chicago
BEGIN:VTIMEZONE
TZID:America/Chicago
BEGIN:STANDARD
TZNAME:CST
DTSTART:20231105T020000
TZOFFSETFROM:-0500
TZOFFSETTO:-0600
RDATE:20241103T020000
END:STANDARD
BEGIN:DAYLIGHT
TZNAME:CDT
DTSTART:20230312T020000
TZOFFSETFROM:-0600
TZOFFSETTO:-0500
RDATE:20240310T020000
RDATE:20250309T020000
END:DAYLIGHT
END:VTIMEZONE
BEGIN:VEVENT
UID:e97714e5-a7ca-43d1-aa33-2f3b7f8309f5
DTSTAMP:20260423T081032Z
DESCRIPTION:Monthly Board Meeting
DTSTART;TZID=America/Chicago:20240308T183000
DTEND;TZID=America/Chicago:20240308T200000
LOCATION:Atrium Meeting Room
SUMMARY:Board Meeting
END:VEVENT
END:VCALENDAR
