BEGIN:VCALENDAR
VERSION:2.0
PRODID:-//horizon-training.presencehost.net//NONSGML kigkonsult.se iCalcrea
 tor 2.30.10//
CALSCALE:GREGORIAN
METHOD:PUBLISH
UID:1357d659-bb41-4129-b50f-c98dd3a0444d
X-WR-CALDESC:Monthly Board Meeting
X-WR-RELCALID:591ff3f578010c9399f1d18056a36765
X-WR-TIMEZONE:America/Chicago
BEGIN:VTIMEZONE
TZID:America/Chicago
BEGIN:STANDARD
TZNAME:CST
DTSTART:20231105T020000
TZOFFSETFROM:-0500
TZOFFSETTO:-0600
RDATE:20241103T020000
END:STANDARD
BEGIN:DAYLIGHT
TZNAME:CDT
DTSTART:20230312T020000
TZOFFSETFROM:-0600
TZOFFSETTO:-0500
RDATE:20240310T020000
RDATE:20250309T020000
END:DAYLIGHT
END:VTIMEZONE
BEGIN:VEVENT
UID:e8e98701-eb85-42e5-8bf7-f2f5615cd794
DTSTAMP:20260423T095017Z
DESCRIPTION:Monthly Board Meeting
DTSTART;TZID=America/Chicago:20240209T183000
DTEND;TZID=America/Chicago:20240209T200000
LOCATION:Atrium Meeting Room
SUMMARY:Board Meeting
END:VEVENT
END:VCALENDAR
