BEGIN:VCALENDAR
VERSION:2.0
PRODID:-//horizon-training.presencehost.net//NONSGML kigkonsult.se iCalcrea
 tor 2.30.10//
CALSCALE:GREGORIAN
METHOD:PUBLISH
UID:986d8cce-7fee-4f8e-a4b4-9b19710a1aaf
X-WR-CALDESC:Monthly Board Meeting
X-WR-RELCALID:25eac4d013615c6c44c529b6c49a6f51
X-WR-TIMEZONE:America/Chicago
BEGIN:VTIMEZONE
TZID:America/Chicago
BEGIN:STANDARD
TZNAME:CST
DTSTART:20231105T020000
TZOFFSETFROM:-0500
TZOFFSETTO:-0600
RDATE:20241103T020000
END:STANDARD
BEGIN:DAYLIGHT
TZNAME:CDT
DTSTART:20230312T020000
TZOFFSETFROM:-0600
TZOFFSETTO:-0500
RDATE:20240310T020000
RDATE:20250309T020000
END:DAYLIGHT
END:VTIMEZONE
BEGIN:VEVENT
UID:ce4ed54f-5bff-4357-a4a6-bc63f963cebd
DTSTAMP:20260423T113733Z
DESCRIPTION:Monthly Board Meeting
DTSTART;TZID=America/Chicago:20240112T183000
DTEND;TZID=America/Chicago:20240112T200000
LOCATION:Atrium Meeting Room
SUMMARY:Board Meeting
END:VEVENT
END:VCALENDAR
