BEGIN:VCALENDAR
VERSION:2.0
PRODID:-//horizon-training.presencehost.net//NONSGML kigkonsult.se iCalcrea
 tor 2.30.10//
CALSCALE:GREGORIAN
METHOD:PUBLISH
UID:6851b7ca-6e91-4a1b-89fd-3b0d4c339ff8
X-WR-CALDESC:Monthly Board Meeting
X-WR-RELCALID:34b309d0418889ae5530ec8bea129319
X-WR-TIMEZONE:America/Chicago
BEGIN:VTIMEZONE
TZID:America/Chicago
BEGIN:STANDARD
TZNAME:CST
DTSTART:20231105T020000
TZOFFSETFROM:-0500
TZOFFSETTO:-0600
RDATE:20241103T020000
END:STANDARD
BEGIN:DAYLIGHT
TZNAME:CDT
DTSTART:20230312T020000
TZOFFSETFROM:-0600
TZOFFSETTO:-0500
RDATE:20240310T020000
RDATE:20250309T020000
END:DAYLIGHT
END:VTIMEZONE
BEGIN:VEVENT
UID:02483fe5-bb7f-4f79-9113-546c97006ba1
DTSTAMP:20260423T150321Z
DESCRIPTION:Monthly Board Meeting
DTSTART;TZID=America/Chicago:20231110T183000
DTEND;TZID=America/Chicago:20231110T200000
LOCATION:Atrium Meeting Room
SUMMARY:Board Meeting
END:VEVENT
END:VCALENDAR
