BEGIN:VCALENDAR
VERSION:2.0
PRODID:-//horizon-training.presencehost.net//NONSGML kigkonsult.se iCalcrea
 tor 2.30.10//
CALSCALE:GREGORIAN
METHOD:PUBLISH
UID:c22267b9-eb46-4034-b1a0-c988bf754c2e
X-WR-CALDESC:Monthly Board Meeting
X-WR-RELCALID:823106d483c4ad8b0d32f573e26f3d86
X-WR-TIMEZONE:America/Chicago
BEGIN:VTIMEZONE
TZID:America/Chicago
BEGIN:STANDARD
TZNAME:CST
DTSTART:20221106T020000
TZOFFSETFROM:-0500
TZOFFSETTO:-0600
RDATE:20231105T020000
RDATE:20241103T020000
END:STANDARD
BEGIN:DAYLIGHT
TZNAME:CDT
DTSTART:20230312T020000
TZOFFSETFROM:-0600
TZOFFSETTO:-0500
RDATE:20240310T020000
RDATE:20250309T020000
END:DAYLIGHT
END:VTIMEZONE
BEGIN:VEVENT
UID:84e0d8d4-c682-4ff3-ac9a-870e2b31ac0e
DTSTAMP:20260423T163331Z
DESCRIPTION:Monthly Board Meeting
DTSTART;TZID=America/Chicago:20231013T183000
DTEND;TZID=America/Chicago:20231013T200000
LOCATION:Atrium Meeting Room
SUMMARY:Board Meeting
END:VEVENT
END:VCALENDAR
