BEGIN:VCALENDAR
VERSION:2.0
PRODID:-//horizon-training.presencehost.net//NONSGML kigkonsult.se iCalcrea
 tor 2.30.10//
CALSCALE:GREGORIAN
METHOD:PUBLISH
UID:35f7e9d9-c22d-4346-b331-04eef5f9b30d
X-WR-CALDESC:Monthly Board Meeting
X-WR-RELCALID:b55195d419ad7e5be8682bca8f7923f2
X-WR-TIMEZONE:America/Chicago
BEGIN:VTIMEZONE
TZID:America/Chicago
BEGIN:STANDARD
TZNAME:CST
DTSTART:20221106T020000
TZOFFSETFROM:-0500
TZOFFSETTO:-0600
RDATE:20231105T020000
RDATE:20241103T020000
END:STANDARD
BEGIN:DAYLIGHT
TZNAME:CDT
DTSTART:20230312T020000
TZOFFSETFROM:-0600
TZOFFSETTO:-0500
RDATE:20240310T020000
RDATE:20250309T020000
END:DAYLIGHT
END:VTIMEZONE
BEGIN:VEVENT
UID:22a6eebb-8ba8-4403-932e-70ac10588748
DTSTAMP:20260423T180138Z
DESCRIPTION:Monthly Board Meeting
DTSTART;TZID=America/Chicago:20230908T183000
DTEND;TZID=America/Chicago:20230908T200000
LOCATION:Atrium Meeting Room
SUMMARY:Board Meeting
END:VEVENT
END:VCALENDAR
