BEGIN:VCALENDAR
VERSION:2.0
PRODID:-//horizon-training.presencehost.net//NONSGML kigkonsult.se iCalcrea
 tor 2.30.10//
CALSCALE:GREGORIAN
METHOD:PUBLISH
UID:efe151e6-07de-4469-a162-86d5a7001763
X-WR-CALDESC:Monthly Board Meeting
X-WR-RELCALID:d21c514904ecb971be4da7dc23b21a45
X-WR-TIMEZONE:America/Chicago
BEGIN:VTIMEZONE
TZID:America/Chicago
BEGIN:STANDARD
TZNAME:CST
DTSTART:20221106T020000
TZOFFSETFROM:-0500
TZOFFSETTO:-0600
RDATE:20231105T020000
RDATE:20241103T020000
END:STANDARD
BEGIN:DAYLIGHT
TZNAME:CDT
DTSTART:20230312T020000
TZOFFSETFROM:-0600
TZOFFSETTO:-0500
RDATE:20240310T020000
END:DAYLIGHT
END:VTIMEZONE
BEGIN:VEVENT
UID:6ebffc27-8f57-456e-b217-ddbdb9539f89
DTSTAMP:20260423T195031Z
DESCRIPTION:Monthly Board Meeting
DTSTART;TZID=America/Chicago:20230811T183000
DTEND;TZID=America/Chicago:20230811T200000
LOCATION:Atrium Meeting Room
SUMMARY:Board Meeting
END:VEVENT
END:VCALENDAR
